BEGIN:VCALENDAR
VERSION:2.0
PRODID:-//MGV 1865 Höringhausen - ECPv6.15.20//NONSGML v1.0//EN
CALSCALE:GREGORIAN
METHOD:PUBLISH
X-ORIGINAL-URL:https://mgvhoeringhausen.de
X-WR-CALDESC:Veranstaltungen für MGV 1865 Höringhausen
REFRESH-INTERVAL;VALUE=DURATION:PT1H
X-Robots-Tag:noindex
X-PUBLISHED-TTL:PT1H
BEGIN:VTIMEZONE
TZID:Europe/Berlin
BEGIN:DAYLIGHT
TZOFFSETFROM:+0100
TZOFFSETTO:+0200
TZNAME:CEST
DTSTART:20220327T010000
END:DAYLIGHT
BEGIN:STANDARD
TZOFFSETFROM:+0200
TZOFFSETTO:+0100
TZNAME:CET
DTSTART:20221030T010000
END:STANDARD
BEGIN:DAYLIGHT
TZOFFSETFROM:+0100
TZOFFSETTO:+0200
TZNAME:CEST
DTSTART:20230326T010000
END:DAYLIGHT
BEGIN:STANDARD
TZOFFSETFROM:+0200
TZOFFSETTO:+0100
TZNAME:CET
DTSTART:20231029T010000
END:STANDARD
BEGIN:DAYLIGHT
TZOFFSETFROM:+0100
TZOFFSETTO:+0200
TZNAME:CEST
DTSTART:20240331T010000
END:DAYLIGHT
BEGIN:STANDARD
TZOFFSETFROM:+0200
TZOFFSETTO:+0100
TZNAME:CET
DTSTART:20241027T010000
END:STANDARD
END:VTIMEZONE
BEGIN:VEVENT
DTSTART;TZID=Europe/Berlin:20230722T150000
DTEND;TZID=Europe/Berlin:20230722T150000
DTSTAMP:20260426T003507
CREATED:20230114T150430Z
LAST-MODIFIED:20230212T095603Z
UID:94-1690038000-1690038000@mgvhoeringhausen.de
SUMMARY:Chorfestival Waldeck-Frankenberg
DESCRIPTION:
URL:https://mgvhoeringhausen.de/event/chorfestival-waldeck-frankenberg-in-korbach/
LOCATION:Rathaus/Obermarkt Korbach\, Korbach\, Deutschland
END:VEVENT
END:VCALENDAR