BEGIN:VCALENDAR
VERSION:2.0
PRODID:-//MGV 1865 Höringhausen - ECPv6.15.20//NONSGML v1.0//EN
CALSCALE:GREGORIAN
METHOD:PUBLISH
X-ORIGINAL-URL:https://mgvhoeringhausen.de
X-WR-CALDESC:Veranstaltungen für MGV 1865 Höringhausen
REFRESH-INTERVAL;VALUE=DURATION:PT1H
X-Robots-Tag:noindex
X-PUBLISHED-TTL:PT1H
BEGIN:VTIMEZONE
TZID:Europe/Berlin
BEGIN:DAYLIGHT
TZOFFSETFROM:+0100
TZOFFSETTO:+0200
TZNAME:CEST
DTSTART:20230326T010000
END:DAYLIGHT
BEGIN:STANDARD
TZOFFSETFROM:+0200
TZOFFSETTO:+0100
TZNAME:CET
DTSTART:20231029T010000
END:STANDARD
BEGIN:DAYLIGHT
TZOFFSETFROM:+0100
TZOFFSETTO:+0200
TZNAME:CEST
DTSTART:20240331T010000
END:DAYLIGHT
BEGIN:STANDARD
TZOFFSETFROM:+0200
TZOFFSETTO:+0100
TZNAME:CET
DTSTART:20241027T010000
END:STANDARD
BEGIN:DAYLIGHT
TZOFFSETFROM:+0100
TZOFFSETTO:+0200
TZNAME:CEST
DTSTART:20250330T010000
END:DAYLIGHT
BEGIN:STANDARD
TZOFFSETFROM:+0200
TZOFFSETTO:+0100
TZNAME:CET
DTSTART:20251026T010000
END:STANDARD
END:VTIMEZONE
BEGIN:VEVENT
DTSTART;TZID=Europe/Berlin:20241003T180000
DTEND;TZID=Europe/Berlin:20241003T200000
DTSTAMP:20260423T064955
CREATED:20240922T100521Z
LAST-MODIFIED:20240922T100521Z
UID:195-1727978400-1727985600@mgvhoeringhausen.de
SUMMARY:"3. Oktober - Deutschland singt"
DESCRIPTION:
URL:https://mgvhoeringhausen.de/event/3-oktober-deutschland-singt/
LOCATION:Bürgerhaus Höringhausen\, Kübenborn 1\, Waldeck-Höringhausen\, 34513
ATTACH;FMTTYPE=image/jpeg:https://mgvhoeringhausen.de/wp-content/uploads/2024/09/Plakat-Offenes-Singen-03-Oktober-2024.jpg
END:VEVENT
END:VCALENDAR