BEGIN:VCALENDAR
VERSION:2.0
PRODID:-//MGV 1865 Höringhausen - ECPv6.15.20//NONSGML v1.0//EN
CALSCALE:GREGORIAN
METHOD:PUBLISH
X-WR-CALNAME:MGV 1865 Höringhausen
X-ORIGINAL-URL:https://mgvhoeringhausen.de
X-WR-CALDESC:Veranstaltungen für MGV 1865 Höringhausen
REFRESH-INTERVAL;VALUE=DURATION:PT1H
X-Robots-Tag:noindex
X-PUBLISHED-TTL:PT1H
BEGIN:VTIMEZONE
TZID:Europe/Berlin
BEGIN:DAYLIGHT
TZOFFSETFROM:+0100
TZOFFSETTO:+0200
TZNAME:CEST
DTSTART:20230326T010000
END:DAYLIGHT
BEGIN:STANDARD
TZOFFSETFROM:+0200
TZOFFSETTO:+0100
TZNAME:CET
DTSTART:20231029T010000
END:STANDARD
BEGIN:DAYLIGHT
TZOFFSETFROM:+0100
TZOFFSETTO:+0200
TZNAME:CEST
DTSTART:20240331T010000
END:DAYLIGHT
BEGIN:STANDARD
TZOFFSETFROM:+0200
TZOFFSETTO:+0100
TZNAME:CET
DTSTART:20241027T010000
END:STANDARD
BEGIN:DAYLIGHT
TZOFFSETFROM:+0100
TZOFFSETTO:+0200
TZNAME:CEST
DTSTART:20250330T010000
END:DAYLIGHT
BEGIN:STANDARD
TZOFFSETFROM:+0200
TZOFFSETTO:+0100
TZNAME:CET
DTSTART:20251026T010000
END:STANDARD
END:VTIMEZONE
BEGIN:VEVENT
DTSTART;TZID=Europe/Berlin:20241107T163000
DTEND;TZID=Europe/Berlin:20241107T171500
DTSTAMP:20260423T050818
CREATED:20241028T072443Z
LAST-MODIFIED:20241103T112906Z
UID:205-1730997000-1730999700@mgvhoeringhausen.de
SUMMARY:Einladung zur Neugründung eines Kinderchores!
DESCRIPTION:  \nLiebe Eltern und Kinder\, \nwir freuen uns\, euch zur Neugründung unseres Kinderchores einzuladen! Wenn ihr zwischen drei und elf Jahren alt seid und Spaß am Singen habt\, dann kommt vorbei! \nWann: 07. November\nUhrzeit: 16:30 – 17:15 Uhr\nWo: BGH Waldeck-Höringhausen \nGemeinsam wollen wir die Freude am Singen entdecken\, neue Freunde finden und tolle Lieder einstudieren. Jeder ist herzlich willkommen! \nDie Teilnahme ist kostenlos\, und wir freuen uns auf viele kleine Sängerinnen und Sänger sowie einen fröhlichen Nachmittag voller Musik! \nHerzliche Grüße\, \nMGV 1865 Höringhausen \nInfo unter: info@mgvhoeringhausen.de
URL:https://mgvhoeringhausen.de/event/einladung-zur-neugruendung-eines-kinderchores/
ATTACH;FMTTYPE=image/jpeg:https://mgvhoeringhausen.de/wp-content/uploads/2024/10/Kinderchor-neu.jpg
END:VEVENT
BEGIN:VEVENT
DTSTART;TZID=Europe/Berlin:20241107T200000
DTEND;TZID=Europe/Berlin:20241107T220000
DTSTAMP:20260423T050818
CREATED:20241028T071555Z
LAST-MODIFIED:20241103T112953Z
UID:202-1731009600-1731016800@mgvhoeringhausen.de
SUMMARY:Ab in den Chor!
DESCRIPTION:Ab in den Chor!\nDer Gemischte Chor Höringhausen lädt Neueinsteiger zur Probe ein \nDer Gemischte Chor Höringhausen lädt am 07. November 2024 von 20:00 bis 22:00 Uhr im Rahmen der bundesweit stattfindenden „Woche der offenen Chöre“ des Deutschen Chorverbands zu einer Schnupperprobe ein. \nVom 4. bis zum 10. November 2024 öffnen Chöre und Vokalensembles in ganz Deutschland wieder allen Interessierten die Türen zu ihren Proben. Mit dieser Aktion soll neuen Mitsängerinnen und -sängern die Gelegenheit geboten werden\, unkompliziert musikalisch Kontakt zu knüpfen. Auch der Gemischte Chor Höringhausen gehört zu den Ensembles\, die in Höringhausen an der „Woche der offenen Chöre“ teilnehmen. \nDie offene Probe im Rahmen der „Woche der offenen Chöre“ findet am Donnerstag\, den 07. November\, um 20:00 Uhr im Bürgerhaus Höringhausen statt. Weitere Informationen unter info@mgvhoeringhausen.de.
URL:https://mgvhoeringhausen.de/event/202/
ATTACH;FMTTYPE=image/jpeg:https://mgvhoeringhausen.de/wp-content/uploads/2024/10/Logo-Woche-der-Choere-CMYK-neu.jpg
END:VEVENT
END:VCALENDAR