BEGIN:VCALENDAR
VERSION:2.0
PRODID:-//MGV 1865 Höringhausen - ECPv6.15.20//NONSGML v1.0//EN
CALSCALE:GREGORIAN
METHOD:PUBLISH
X-ORIGINAL-URL:https://mgvhoeringhausen.de
X-WR-CALDESC:Veranstaltungen für MGV 1865 Höringhausen
REFRESH-INTERVAL;VALUE=DURATION:PT1H
X-Robots-Tag:noindex
X-PUBLISHED-TTL:PT1H
BEGIN:VTIMEZONE
TZID:Europe/Berlin
BEGIN:DAYLIGHT
TZOFFSETFROM:+0100
TZOFFSETTO:+0200
TZNAME:CEST
DTSTART:20240331T010000
END:DAYLIGHT
BEGIN:STANDARD
TZOFFSETFROM:+0200
TZOFFSETTO:+0100
TZNAME:CET
DTSTART:20241027T010000
END:STANDARD
BEGIN:DAYLIGHT
TZOFFSETFROM:+0100
TZOFFSETTO:+0200
TZNAME:CEST
DTSTART:20250330T010000
END:DAYLIGHT
BEGIN:STANDARD
TZOFFSETFROM:+0200
TZOFFSETTO:+0100
TZNAME:CET
DTSTART:20251026T010000
END:STANDARD
BEGIN:DAYLIGHT
TZOFFSETFROM:+0100
TZOFFSETTO:+0200
TZNAME:CEST
DTSTART:20260329T010000
END:DAYLIGHT
BEGIN:STANDARD
TZOFFSETFROM:+0200
TZOFFSETTO:+0100
TZNAME:CET
DTSTART:20261025T010000
END:STANDARD
END:VTIMEZONE
BEGIN:VEVENT
DTSTART;TZID=Europe/Berlin:20250118T200000
DTEND;TZID=Europe/Berlin:20250118T220000
DTSTAMP:20260423T021615
CREATED:20241223T111217Z
LAST-MODIFIED:20241223T111320Z
UID:233-1737230400-1737237600@mgvhoeringhausen.de
SUMMARY:Jahreshauptversammlung des Männergesangverein 1865 Höringhausen
DESCRIPTION:Liebe Vereinsmitglieder\, \nhiermit laden wir zur Jahreshauptversammlung des MGV 1865 Höringhausen am \nSamstag\, 18. Januar 2025\, 20.00 Uhr \nin das Bürgerhaus Höringhausen herzlich ein.
URL:https://mgvhoeringhausen.de/event/jahreshauptversammlung-des-maennergesangverein-1865-hoeringhausen/
LOCATION:Bürgerhaus Höringhausen\, Kübenborn 1\, Waldeck-Höringhausen\, 34513
END:VEVENT
END:VCALENDAR